BEGIN:VCALENDAR
VERSION:2.0
PRODID:-//Le Coup de Pousse - ECPv6.15.20//NONSGML v1.0//EN
CALSCALE:GREGORIAN
METHOD:PUBLISH
X-WR-CALNAME:Le Coup de Pousse
X-ORIGINAL-URL:https://lecoupdepousse.be
X-WR-CALDESC:Évènements pour Le Coup de Pousse
REFRESH-INTERVAL;VALUE=DURATION:PT1H
X-Robots-Tag:noindex
X-PUBLISHED-TTL:PT1H
BEGIN:VTIMEZONE
TZID:Europe/Paris
BEGIN:DAYLIGHT
TZOFFSETFROM:+0100
TZOFFSETTO:+0200
TZNAME:CEST
DTSTART:20220327T010000
END:DAYLIGHT
BEGIN:STANDARD
TZOFFSETFROM:+0200
TZOFFSETTO:+0100
TZNAME:CET
DTSTART:20221030T010000
END:STANDARD
BEGIN:DAYLIGHT
TZOFFSETFROM:+0100
TZOFFSETTO:+0200
TZNAME:CEST
DTSTART:20230326T010000
END:DAYLIGHT
BEGIN:STANDARD
TZOFFSETFROM:+0200
TZOFFSETTO:+0100
TZNAME:CET
DTSTART:20231029T010000
END:STANDARD
BEGIN:DAYLIGHT
TZOFFSETFROM:+0100
TZOFFSETTO:+0200
TZNAME:CEST
DTSTART:20240331T010000
END:DAYLIGHT
BEGIN:STANDARD
TZOFFSETFROM:+0200
TZOFFSETTO:+0100
TZNAME:CET
DTSTART:20241027T010000
END:STANDARD
END:VTIMEZONE
BEGIN:VEVENT
DTSTART;TZID=Europe/Paris:20230325T140000
DTEND;TZID=Europe/Paris:20230325T180000
DTSTAMP:20260422T145746
CREATED:20230215T115113Z
LAST-MODIFIED:20230215T115220Z
UID:1949-1679752800-1679767200@lecoupdepousse.be
SUMMARY:Pépins d'Hier
DESCRIPTION:Rejoignez-nous pour échanger des graines\, des idées et autres plantules !\n\n\n\nRendez-vous le samedi 25 mars 2023 de 14h à ~18h\n\n\n\nau Chemin de la Prairie\, 65 – 7830 Hellebecq \n\n\n\n \n\n\n\nVous pouvez d’ores et déjà préparer vos enveloppes à graines – impression A4 \n\n\n\nDes accessoires\, livres et outils de jardin en trop ? Ils sont les bienvenus à la “Donnerie du jardinier”. \n\n\n\nDes boissons locales seront disponibles à prix démocratique. \n\n\n\n \n\n\n\nProgramme\n\n\n\n\n\n\n\n14:00\nOuverture de la Bourse\nLes participants sont invités à se servir dans les boîtes consacrées.\n\n\n15:00\nVisite du jardin\ninscrit dans le maillage Réseau Nature\n\n\n16:00\nAtelier Fabrication\nde Terreau zéro déchet\n\n\n16:30\nAtelier Observation\ndes petits occupants du jardin\n\n\n17:00\nConférence\nsur le thème des Graines Paysannes\n\n\n18:00\nClôture de la Bourse\net moment convivial autour du bar\n\n\n\n\n\n\n\nCette année\, les graines non distribuées seront offertes à la Grainothèque de Silly. \n\n\n\nFavorisons les plantes indigènes et évitons les hybrides F1 ! \n\n\n\n \n\n\n\n\n\nNos Partenaires\n\n\n\n\n\n\nLe Réseau Nature de Silly\n\n\n\n\n\n\n\nLa Grainothèque de Silly\n\n\n\n\n\n\n\nLe Potager DD\n\n\n\n\n\n\n\nAu Jardin des Voisines
URL:https://lecoupdepousse.be/event/1949/
LOCATION:Le Coup de Pousse asbl\, Chemin de la Prairie\, 65\, - 7830 Hellebecq
CATEGORIES:Festivités
ATTACH;FMTTYPE=image/gif:https://lecoupdepousse.be/wp-content/uploads/2018/03/graines-aliments-boostent-nos-assiettes1-e1676457453701.gif
END:VEVENT
END:VCALENDAR