BEGIN:VCALENDAR
VERSION:2.0
PRODID:-//Le Coup de Pousse - ECPv6.15.20//NONSGML v1.0//EN
CALSCALE:GREGORIAN
METHOD:PUBLISH
X-WR-CALNAME:Le Coup de Pousse
X-ORIGINAL-URL:https://lecoupdepousse.be
X-WR-CALDESC:Évènements pour Le Coup de Pousse
REFRESH-INTERVAL;VALUE=DURATION:PT1H
X-Robots-Tag:noindex
X-PUBLISHED-TTL:PT1H
BEGIN:VTIMEZONE
TZID:Europe/Paris
BEGIN:DAYLIGHT
TZOFFSETFROM:+0100
TZOFFSETTO:+0200
TZNAME:CEST
DTSTART:20250330T010000
END:DAYLIGHT
BEGIN:STANDARD
TZOFFSETFROM:+0200
TZOFFSETTO:+0100
TZNAME:CET
DTSTART:20251026T010000
END:STANDARD
BEGIN:DAYLIGHT
TZOFFSETFROM:+0100
TZOFFSETTO:+0200
TZNAME:CEST
DTSTART:20260329T010000
END:DAYLIGHT
BEGIN:STANDARD
TZOFFSETFROM:+0200
TZOFFSETTO:+0100
TZNAME:CET
DTSTART:20261025T010000
END:STANDARD
BEGIN:DAYLIGHT
TZOFFSETFROM:+0100
TZOFFSETTO:+0200
TZNAME:CEST
DTSTART:20270328T010000
END:DAYLIGHT
BEGIN:STANDARD
TZOFFSETFROM:+0200
TZOFFSETTO:+0100
TZNAME:CET
DTSTART:20271031T010000
END:STANDARD
END:VTIMEZONE
BEGIN:VEVENT
DTSTART;TZID=Europe/Paris:20260412T140000
DTEND;TZID=Europe/Paris:20260412T180000
DTSTAMP:20260419T194234
CREATED:20260301T184757Z
LAST-MODIFIED:20260320T125217Z
UID:2212-1776002400-1776016800@lecoupdepousse.be
SUMMARY:Pépins d'Hier 2026
DESCRIPTION:Pépins d’Hier\n\n\n\nRejoignez-nous pour échanger des graines\, des idées et autres plantules !\n\n\n\n\n\n\n\n\n\n\n\n\n\n\n\n\n\n\n\n\n\n\n\n\n\n \n\n\n\nRendez-vous le dimanche 12 avril 2026 de 14h à ~18h\n\n\n\nau Chemin de la Prairie\, 65 – 7830 Hellebecq \n\n\n\n \n\n\n\nVous pouvez d’ores et déjà préparer: vos enveloppes à graines: tutoriel – fichier à imprimer & vos plantules \, arbustes\, boutures\,… \n\n\n\nDes accessoires\, livres et outils de jardin en trop ? Ils sont les bienvenus à la “Donnerie du jardinier”. \n\n\n\nDurant toute l’après-midi\, venez découvrir de manière ludique notre allié du jardin:  « Le Hérisson » \n\n\n\nDes boissons locales seront disponibles à prix démocratique. \n\n\n\n \n\n\n\nProgramme\n\n\n\n\n\n\n\n14:00\nOuverture de la Bourse\nLes participants sont invités à se servir aux endroits indiqués\n\n\n15:00\nVisite du jardin ~1h\ninscrit dans le maillage Réseau Nature\n\n\n16:00\nBombes de graines\nAtelier proposé par David & Keanu\n\n\n16:30\nTombola du jardinier\nGagnez des lots inattendus pour votre jardin\n\n\n18:00\nClôture de la Bourse\net moment convivial autour du bar\n\n\n\n\n\n\n\nLes graines non distribuées seront offertes à la Grainothèque de Silly. \n\n\n\nFavorisons les plantes indigènes et évitons les hybrides F1 ! \n\n\n\n \n\n\n\n\n\n\n\nNos Partenaires\n\n\n\n\n\n\nLe Réseau Nature\n\n\n\n\n\n\n\nLa Grainothèque \n\n\n\n\n\n\n\nLe Potager DD devient L’ortie culteur\n\n\n\n\n\n\n\nAu Jardin des Voisines\n\n\n\n\n\n\n 
URL:https://lecoupdepousse.be/event/pepins-dhier-2026/
LOCATION:Le Coup de Pousse asbl\, Chemin de la Prairie\, 65\, - 7830 Hellebecq
CATEGORIES:Fais-le toi-même,Festivités,Visite
ATTACH;FMTTYPE=image/jpeg:https://lecoupdepousse.be/wp-content/uploads/2024/02/1707738084351-edited-scaled.jpg
END:VEVENT
END:VCALENDAR